BEGIN:VCALENDAR
VERSION:2.0
PRODID:-//Talaton Parish Council//Meeting Calendar//EN
CALSCALE:GREGORIAN
METHOD:PUBLISH
BEGIN:VEVENT
UID:70468-20260204@talatonparishcouncil.gov.uk
DTSTAMP:20260419T122951Z
DTSTART;VALUE=DATE:20260204
DTEND;VALUE=DATE:20260205
SUMMARY:Full Council Meeting &#8211\\; 4 February 2026
DESCRIPTION:Full Council Meeting\nView details: https://talatonparishcouncil.gov.uk/meetings/full-council-meeting-4-february-2026/
URL:https://talatonparishcouncil.gov.uk/meetings/full-council-meeting-4-february-2026/
END:VEVENT
END:VCALENDAR
