BEGIN:VCALENDAR
VERSION:2.0
PRODID:-//Talaton Parish Council//Meeting Calendar//EN
CALSCALE:GREGORIAN
METHOD:PUBLISH
BEGIN:VEVENT
UID:70469-20260304@talatonparishcouncil.gov.uk
DTSTAMP:20260419T122411Z
DTSTART;VALUE=DATE:20260304
DTEND;VALUE=DATE:20260305
SUMMARY:Full Council Meeting &#8211\\; 4 March 2026
DESCRIPTION:Full Council Meeting\nView details: https://talatonparishcouncil.gov.uk/meetings/full-council-meeting-4-march-2026/
URL:https://talatonparishcouncil.gov.uk/meetings/full-council-meeting-4-march-2026/
END:VEVENT
END:VCALENDAR
