BEGIN:VCALENDAR
VERSION:2.0
PRODID:-//Talaton Parish Council//Meeting Calendar//EN
CALSCALE:GREGORIAN
METHOD:PUBLISH
BEGIN:VEVENT
UID:70560-20230426@talatonparishcouncil.gov.uk
DTSTAMP:20260419T135121Z
DTSTART;VALUE=DATE:20230426
DTEND;VALUE=DATE:20230427
SUMMARY:Annual Parish Meeting &#8211\\; 26 April 2023
DESCRIPTION:Annual Parish Meeting\nView details: https://talatonparishcouncil.gov.uk/meetings/annual-parish-meeting-26-april-2023/
URL:https://talatonparishcouncil.gov.uk/meetings/annual-parish-meeting-26-april-2023/
END:VEVENT
END:VCALENDAR
